BEGIN:VCALENDAR
VERSION:2.0
PRODID:-//wp-events-plugin.com//7.2.2.1//EN
TZID:Europe/Berlin
X-WR-TIMEZONE:Europe/Berlin
BEGIN:VEVENT
UID:100@wasserwacht-muenchberg.de
DTSTART;TZID=Europe/Berlin:20240720T150000
DTEND;TZID=Europe/Berlin:20240720T234500
DTSTAMP:20240625T230448Z
URL:https://wasserwacht-muenchberg.de/events/weinfest/
SUMMARY:Weinfest
DESCRIPTION:Seit vielen Jahren veranstaltet die Wasserwacht Münchberg ihr 
 Weinfest. Auch dieses Jahr wollen wir unsere Gäste mit fränkischem Weine
 n und leckeren Speisen verwöhnen.\n\n
ATTACH;FMTTYPE=image/jpeg:https://wasserwacht-muenchberg.de/wp-content/upl
 oads/2024/01/weinfest.jpg
CATEGORIES:Erwachsene,Veranstaltung
LOCATION:Vereinsheim der Wasserwacht Münchberg\, Gartenstraße 1\, Münchb
 erg\, Bayern\, 95213\, Deutschland
X-APPLE-STRUCTURED-LOCATION;VALUE=URI;X-ADDRESS=Gartenstraße 1\, Münchber
 g\, Bayern\, 95213\, Deutschland;X-APPLE-RADIUS=100;X-TITLE=Vereinsheim de
 r Wasserwacht Münchberg:geo:0,0
END:VEVENT
BEGIN:VTIMEZONE
TZID:Europe/Berlin
X-LIC-LOCATION:Europe/Berlin
BEGIN:DAYLIGHT
DTSTART:20240331T030000
TZOFFSETFROM:+0100
TZOFFSETTO:+0200
TZNAME:CEST
END:DAYLIGHT
END:VTIMEZONE
END:VCALENDAR