BEGIN:VCALENDAR
VERSION:2.0
PRODID:-//wp-events-plugin.com//7.2.2.1//EN
TZID:Europe/Berlin
X-WR-TIMEZONE:Europe/Berlin
BEGIN:VEVENT
UID:46@wasserwacht-muenchberg.de
DTSTART;TZID=Europe/Berlin:20241031T190000
DTEND;TZID=Europe/Berlin:20241031T230000
DTSTAMP:20241124T114846Z
URL:https://wasserwacht-muenchberg.de/events/vereinsabend-2024-10-31/
SUMMARY:Vereinsabend
DESCRIPTION:Diese Woche Halloween könnt ihr gerne in Verkleidung zu unsere
 m Vereinsabend kommen. Es gibt passend zu Halloween auch eine Überraschun
 g.\n\nJede Woche kommen die Mitglieder der Wasserwacht Münchberg für uns
 eren Vereinsabend zusammen. In gemütlicher Atmosphäre können sie sich b
 ei Essen und Trinken austauschen.\n\nJeden Donnerstag. Ab 19:00 Uhr.
CATEGORIES:Regelmäßige Veranstaltung
LOCATION:Vereinsheim der Wasserwacht Münchberg\, Gartenstraße 1\, Münchb
 erg\, Bayern\, 95213\, Deutschland
X-APPLE-STRUCTURED-LOCATION;VALUE=URI;X-ADDRESS=Gartenstraße 1\, Münchber
 g\, Bayern\, 95213\, Deutschland;X-APPLE-RADIUS=100;X-TITLE=Vereinsheim de
 r Wasserwacht Münchberg:geo:0,0
END:VEVENT
BEGIN:VTIMEZONE
TZID:Europe/Berlin
X-LIC-LOCATION:Europe/Berlin
BEGIN:STANDARD
DTSTART:20241027T020000
TZOFFSETFROM:+0200
TZOFFSETTO:+0100
TZNAME:CET
END:STANDARD
END:VTIMEZONE
END:VCALENDAR