BEGIN:VCALENDAR
VERSION:2.0
PRODID:-//wp-events-plugin.com//7.2.2.1//EN
TZID:Europe/Berlin
X-WR-TIMEZONE:Europe/Berlin
BEGIN:VEVENT
UID:104@wasserwacht-muenchberg.de
DTSTART;TZID=Europe/Berlin:20240110T170000
DTEND;TZID=Europe/Berlin:20240110T183000
DTSTAMP:20240421T115450Z
URL:https://wasserwacht-muenchberg.de/events/gruppenstunde-kennenlernen-al
 lgemeines/
SUMMARY:Gruppenstunde: Kennenlernen & Allgemeines
DESCRIPTION:Anmeldung\n\n
CATEGORIES:Jugend,Training
LOCATION:Vereinsheim der Wasserwacht Münchberg\, Gartenstraße 1\, Münchb
 erg\, Bayern\, 95213\, Deutschland
X-APPLE-STRUCTURED-LOCATION;VALUE=URI;X-ADDRESS=Gartenstraße 1\, Münchber
 g\, Bayern\, 95213\, Deutschland;X-APPLE-RADIUS=100;X-TITLE=Vereinsheim de
 r Wasserwacht Münchberg:geo:0,0
END:VEVENT
BEGIN:VTIMEZONE
TZID:Europe/Berlin
X-LIC-LOCATION:Europe/Berlin
BEGIN:STANDARD
DTSTART:20231029T020000
TZOFFSETFROM:+0200
TZOFFSETTO:+0100
TZNAME:CET
END:STANDARD
END:VTIMEZONE
END:VCALENDAR