BEGIN:VCALENDAR
VERSION:2.0
PRODID:-//wp-events-plugin.com//7.2.2.1//EN
TZID:Europe/Berlin
X-WR-TIMEZONE:Europe/Berlin
BEGIN:VEVENT
UID:107@wasserwacht-muenchberg.de
DTSTART;TZID=Europe/Berlin:20240410T170000
DTEND;TZID=Europe/Berlin:20240410T183000
DTSTAMP:20240421T115745Z
URL:https://wasserwacht-muenchberg.de/events/gruppenstunde-alles-rund-ums-
 thema-wasserwacht/
SUMMARY:Gruppenstunde: Alles Rund ums Thema Wasserwacht
DESCRIPTION:Anmeldung\n\n
CATEGORIES:Jugend,Training
LOCATION:Vereinsheim der Wasserwacht Münchberg\, Gartenstraße 1\, Münchb
 erg\, Bayern\, 95213\, Deutschland
X-APPLE-STRUCTURED-LOCATION;VALUE=URI;X-ADDRESS=Gartenstraße 1\, Münchber
 g\, Bayern\, 95213\, Deutschland;X-APPLE-RADIUS=100;X-TITLE=Vereinsheim de
 r Wasserwacht Münchberg:geo:0,0
END:VEVENT
BEGIN:VTIMEZONE
TZID:Europe/Berlin
X-LIC-LOCATION:Europe/Berlin
BEGIN:DAYLIGHT
DTSTART:20240331T030000
TZOFFSETFROM:+0100
TZOFFSETTO:+0200
TZNAME:CEST
END:DAYLIGHT
END:VTIMEZONE
END:VCALENDAR