BEGIN:VCALENDAR
VERSION:2.0
PRODID:-//wp-events-plugin.com//7.2.2.1//EN
TZID:Europe/Berlin
X-WR-TIMEZONE:Europe/Berlin
BEGIN:VEVENT
UID:103@wasserwacht-muenchberg.de
DTSTART;TZID=Europe/Berlin:20240430T180000
DTEND;TZID=Europe/Berlin:20240430T230000
DTSTAMP:20240421T114839Z
URL:https://wasserwacht-muenchberg.de/events/besenbrennen/
SUMMARY:Besenbrennen
DESCRIPTION:Auch dieses Jahr veranstaltet die Wasserwacht wieder ihr Besenb
 rennen.\n\n&nbsp\;\n\nWeitere Infos folgen
LOCATION:Vereinsheim der Wasserwacht Münchberg\, Gartenstraße 1\, Münchb
 erg\, Bayern\, 95213\, Deutschland
X-APPLE-STRUCTURED-LOCATION;VALUE=URI;X-ADDRESS=Gartenstraße 1\, Münchber
 g\, Bayern\, 95213\, Deutschland;X-APPLE-RADIUS=100;X-TITLE=Vereinsheim de
 r Wasserwacht Münchberg:geo:0,0
END:VEVENT
BEGIN:VTIMEZONE
TZID:Europe/Berlin
X-LIC-LOCATION:Europe/Berlin
BEGIN:DAYLIGHT
DTSTART:20240331T030000
TZOFFSETFROM:+0100
TZOFFSETTO:+0200
TZNAME:CEST
END:DAYLIGHT
END:VTIMEZONE
END:VCALENDAR